BEGIN:VCALENDAR
VERSION:2.0
METHOD:PUBLISH
PRODID:-//Accessible Web Design//My Calendar//http://www.joedolson.com//v//EN';
BEGIN:VEVENT
UID:34-32
LOCATION:
SUMMARY:Pferdesegnung an den Mauerner Höhlen
DTSTAMP:20260426T140000
ORGANIZER;CN=admin:MAILTO:so@30media.de
DTSTART:20260426T140000
DTEND:20260426T150000
CATEGORIES:General
URL;VALUE=URI:https://www.psg-altmuehltal.de/mc-events/pferdesegnung-an-den-mauerner-hoehlen-2/?mc_id=34
DESCRIPTION:
END:VEVENT
END:VCALENDAR