BEGIN:VCALENDAR
VERSION:2.0
METHOD:PUBLISH
PRODID:-//Accessible Web Design//My Calendar//http://www.joedolson.com//v//EN';
BEGIN:VEVENT
UID:35-33
LOCATION:
SUMMARY:Stammtisch am Marktfest in Rennertshofen
DTSTAMP:20260719T120000
ORGANIZER;CN=admin:MAILTO:so@30media.de
DTSTART:20260719T120000
DTEND:20260719T130000
CATEGORIES:General
URL;VALUE=URI:https://www.psg-altmuehltal.de/mc-events/stammtisch-am-marktfest-in-rennertshofen/?mc_id=35
DESCRIPTION:
END:VEVENT
END:VCALENDAR