BEGIN:VCALENDAR
VERSION:2.0
METHOD:PUBLISH
PRODID:-//Accessible Web Design//My Calendar//http://www.joedolson.com//v//EN';
BEGIN:VEVENT
UID:36-34
LOCATION:
SUMMARY:Jubiläumsfest FFW Hatzenhofen
DTSTAMP:20260823
ORGANIZER;CN=admin:MAILTO:so@30media.de
DTSTART:20260823
DTEND:20260824
CATEGORIES:General
URL;VALUE=URI:https://www.psg-altmuehltal.de/mc-events/jubilaeumsfest-ffw-hatzenhofen/?mc_id=36
DESCRIPTION:Teilnahme am Festumzug und anschließend evtl. gemütliches Beisammensitzen am Fest
X-FUNAMBOL-ALLDAY: 1
X-MICROSOFT-CDO-ALLDAYEVENT: TRUE

END:VEVENT
END:VCALENDAR