BEGIN:VCALENDAR
VERSION:2.0
METHOD:PUBLISH
PRODID:-//Accessible Web Design//My Calendar//http://www.joedolson.com//v//EN';
BEGIN:VEVENT
UID:38-36
LOCATION:
SUMMARY:Jahreshauptversammlung in der Blaue Traube in Neuburg
DTSTAMP:20270128T183000
ORGANIZER;CN=admin:MAILTO:so@30media.de
DTSTART:20270128T183000
DTEND:20270128T193000
CATEGORIES:General
URL;VALUE=URI:https://www.psg-altmuehltal.de/mc-events/jahreshauptversammlung-in-der-blaue-traube-in-neuburg/?mc_id=38
DESCRIPTION:Nähere Infos folgen
END:VEVENT
END:VCALENDAR