BEGIN:VCALENDAR
VERSION:2.0
METHOD:PUBLISH
PRODID:-//Accessible Web Design//My Calendar//http://www.joedolson.com//v//EN';
BEGIN:VEVENT
UID:33-31
LOCATION:
SUMMARY:Besuch der Reiterstaffel in Nürnberg
DTSTAMP:20260409
ORGANIZER;CN=admin:MAILTO:so@30media.de
DTSTART:20260409
DTEND:20260410
CATEGORIES:General
URL;VALUE=URI:https://www.psg-altmuehltal.de/mc-events/besuch-der-reiterstaffel-in-nuernberg/?mc_id=33
DESCRIPTION:Genauer Ablauf folgtIm Anschluss würden wir bei Interesse ins Palm Beach in Stein fahren
X-FUNAMBOL-ALLDAY: 1
X-MICROSOFT-CDO-ALLDAYEVENT: TRUE

END:VEVENT
END:VCALENDAR