BEGIN:VCALENDAR
VERSION:2.0
METHOD:PUBLISH
PRODID:-//Accessible Web Design//My Calendar//http://www.joedolson.com//v//EN';
BEGIN:VEVENT
UID:37-35
LOCATION:
SUMMARY:Ponymeisterschaft im Reit- und Fahrverein Donauwörth-Mertingen
DTSTAMP:20261003
ORGANIZER;CN=admin:MAILTO:so@30media.de
DTSTART:20261003
DTEND:20261004
CATEGORIES:General
URL;VALUE=URI:https://www.psg-altmuehltal.de/mc-events/ponymeisterschaft-im-reit-und-fahrverein-donauwoerth-mertingen/?mc_id=37
DESCRIPTION:Im AnschlussReiterstammtisch in der Vereinsgaststätte des Reit- und Fahrvereins Donauwörth-Mertingen
X-FUNAMBOL-ALLDAY: 1
X-MICROSOFT-CDO-ALLDAYEVENT: TRUE

END:VEVENT
END:VCALENDAR